View In:
ArcGIS JavaScript
ArcGIS Online Map Viewer
ArcGIS Earth
ArcMap
View Footprint In:
ArcGIS Online Map Viewer
Service Description: GDC_Climate_Case/hirds_rainfalldepth_duration12hrs_ari100_tif
Name: GDC_Climate_Case/hirds_rainfalldepth_duration12hrs_ari100_tif
Description:
Single Fused Map Cache: false
Extent:
XMin: 1955309.6612176795
YMin: 5670338.787572461
XMax: 2097309.6612176793
YMax: 5838338.787572461
Spatial Reference: 2193
(2193)
Initial Extent:
XMin: 1955309.6612176795
YMin: 5670338.787572461
XMax: 2097309.6612176793
YMax: 5838338.787572461
Spatial Reference: 2193
(2193)
Full Extent:
XMin: 1955309.6612176795
YMin: 5670338.787572461
XMax: 2097309.6612176793
YMax: 5838338.787572461
Spatial Reference: 2193
(2193)
Pixel Size X: 1999.9999999999968
Pixel Size Y: 2000.0
Band Count: 1
Pixel Type: F32
RasterFunction Infos: {"rasterFunctionInfos": [{
"name": "None",
"description": "",
"help": ""
}]}
Mensuration Capabilities: Basic
Has Histograms: true
Has Colormap: false
Has Multi Dimensions : false
Rendering Rule:
Min Scale: 0
Max Scale: 0
Copyright Text:
Service Data Type: esriImageServiceDataTypeGeneric
Min Values: 144.53872680664
Max Values: 374.42459106445
Mean Values: 220.44816293327
Standard Deviation Values: 46.027657371978
Object ID Field:
Fields:
None
Default Mosaic Method: Center
Allowed Mosaic Methods:
SortField:
SortValue: null
Mosaic Operator: First
Default Compression Quality: 75
Default Resampling Method: Bilinear
Max Record Count: null
Max Image Height: 4100
Max Image Width: 15000
Max Download Image Count: null
Max Mosaic Image Count: null
Allow Raster Function: true
Allow Copy: true
Allow Analysis: true
Allow Compute TiePoints: false
Supports Statistics: false
Supports Advanced Queries: false
Use StandardizedQueries: true
Raster Type Infos:
Name: Raster Dataset
Description: Supports all ArcGIS Raster Datasets
Help:
Has Raster Attribute Table: false
Edit Fields Info: null
Ownership Based AccessControl For Rasters: null
Child Resources:
Info
Histograms
Statistics
Key Properties
Legend
Raster Function Infos
Supported Operations:
Export Image
Identify
Measure
Compute Histograms
Compute Statistics Histograms
Get Samples
Compute Class Statistics
Query Boundary
Compute Pixel Location
Validate
Project