{
 "currentVersion": 10.81,
 "serviceDescription": "GDC_Climate_Case/hirds_rainfalldepth_duration12hrs_ari100_tif",
 "name": "GDC_Climate_Case/hirds_rainfalldepth_duration12hrs_ari100_tif",
 "description": "",
 "extent": {
  "xmin": 1955309.6612176795,
  "ymin": 5670338.787572461,
  "xmax": 2097309.6612176793,
  "ymax": 5838338.787572461,
  "spatialReference": {
   "wkid": 2193,
   "latestWkid": 2193
  }
 },
 "initialExtent": {
  "xmin": 1955309.6612176795,
  "ymin": 5670338.787572461,
  "xmax": 2097309.6612176793,
  "ymax": 5838338.787572461,
  "spatialReference": {
   "wkid": 2193,
   "latestWkid": 2193
  }
 },
 "fullExtent": {
  "xmin": 1955309.6612176795,
  "ymin": 5670338.787572461,
  "xmax": 2097309.6612176793,
  "ymax": 5838338.787572461,
  "spatialReference": {
   "wkid": 2193,
   "latestWkid": 2193
  }
 },
 "pixelSizeX": 1999.9999999999968,
 "pixelSizeY": 2000,
 "datasetFormat": "TIFF",
 "uncompressedSize": 23856,
 "blockWidth": 128,
 "blockHeight": 128,
 "compressionType": "None",
 "bandNames": [
  "Band_1"
 ],
 "allowCopy": true,
 "allowAnalysis": true,
 "bandCount": 1,
 "noDataValue": 9.969209968386869E36,
 "noDataValues": [
  9.969209968386869E36
 ],
 "pixelType": "F32",
 "minPixelSize": 0,
 "maxPixelSize": 0,
 "copyrightText": "",
 "serviceDataType": "esriImageServiceDataTypeGeneric",
 "serviceSourceType": "esriImageServiceSourceTypeDataset",
 "minValues": [
  144.53872680664
 ],
 "maxValues": [
  374.42459106445
 ],
 "meanValues": [
  220.44816293327
 ],
 "stdvValues": [
  46.027657371978
 ],
 "objectIdField": "",
 "fields": [],
 "capabilities": "Image,Metadata,Mensuration",
 "defaultMosaicMethod": "Center",
 "allowedMosaicMethods": "",
 "sortField": "",
 "sortValue": null,
 "sortAscending": true,
 "mosaicOperator": "First",
 "defaultCompressionQuality": 75,
 "defaultResamplingMethod": "Bilinear",
 "maxImageHeight": 4100,
 "maxImageWidth": 15000,
 "allowRasterFunction": true,
 "rasterFunctionInfos": [
  {
   "name": "None",
   "description": "",
   "help": ""
  }
 ],
 "rasterTypeInfos": [
  {
   "name": "Raster Dataset",
   "description": "Supports all ArcGIS Raster Datasets",
   "help": ""
  }
 ],
 "mensurationCapabilities": "Basic",
 "hasHistograms": true,
 "hasColormap": false,
 "hasRasterAttributeTable": false,
 "minScale": 0,
 "maxScale": 0,
 "exportTilesAllowed": false,
 "hasMultidimensions": false,
 "supportsStatistics": false,
 "supportsAdvancedQueries": false,
 "editFieldsInfo": null,
 "ownershipBasedAccessControlForRasters": null,
 "allowComputeTiePoints": false,
 "useStandardizedQueries": true,
 "advancedQueryCapabilities": {
  "useStandardizedQueries": true,
  "supportsStatistics": false,
  "supportsOrderBy": false,
  "supportsDistinct": false,
  "supportsPagination": false
 },
 "spatialReference": {
  "wkid": 2193,
  "latestWkid": 2193
 }
}
