View In:
ArcGIS JavaScript
ArcGIS Online Map Viewer
ArcGIS Earth
ArcMap
View Footprint In:
ArcGIS Online Map Viewer
Service Description: Imagery/Aerial_Test_tif
Name: Imagery/Aerial_Test_tif
Description:
Single Fused Map Cache: false
Extent:
XMin: 1571359.6643967389
YMin: 5198854.290967892
XMax: 1575058.2319805985
YMax: 5200945.186829925
Spatial Reference: 2193
(2193)
VCSWkid(5773)
LatestVCSWkid(5773)
Initial Extent:
XMin: 1571359.6643967389
YMin: 5198854.290967892
XMax: 1575058.2319805985
YMax: 5200945.186829925
Spatial Reference: 2193
(2193)
VCSWkid(5773)
LatestVCSWkid(5773)
Full Extent:
XMin: 1571359.6643967389
YMin: 5198854.290967892
XMax: 1575058.2319805985
YMax: 5200945.186829925
Spatial Reference: 2193
(2193)
VCSWkid(5773)
LatestVCSWkid(5773)
Pixel Size X: 0.14415994636185162
Pixel Size Y: 0.14415994636187668
Band Count: 4
Pixel Type: U8
RasterFunction Infos: {"rasterFunctionInfos": [{
"name": "None",
"description": "",
"help": ""
}]}
Mensuration Capabilities: Basic
Has Histograms: true
Has Colormap: false
Has Multi Dimensions : false
Rendering Rule:
Min Scale: 0
Max Scale: 0
Copyright Text:
Service Data Type: esriImageServiceDataTypeGeneric
Min Values: 0, 0, 0, 0
Max Values: 255, 255, 255, 255
Mean Values: 112.22938639999, 145.57882229314, 104.55577200865, 252.50858041226
Standard Deviation Values: 56.552815165838, 48.393276705435, 41.089457283573, 24.190225448655
Object ID Field:
Fields:
None
Default Mosaic Method: Center
Allowed Mosaic Methods:
SortField:
SortValue: null
Mosaic Operator: First
Default Compression Quality: 75
Default Resampling Method: Bilinear
Max Record Count: null
Max Image Height: 4100
Max Image Width: 15000
Max Download Image Count: null
Max Mosaic Image Count: null
Allow Raster Function: true
Allow Copy: true
Allow Analysis: true
Allow Compute TiePoints: false
Supports Statistics: false
Supports Advanced Queries: false
Use StandardizedQueries: true
Raster Type Infos:
Name: Raster Dataset
Description: Supports all ArcGIS Raster Datasets
Help:
Has Raster Attribute Table: false
Edit Fields Info: null
Ownership Based AccessControl For Rasters: null
Child Resources:
Info
Histograms
Statistics
Key Properties
Legend
Raster Function Infos
Supported Operations:
Export Image
Identify
Measure
Compute Histograms
Compute Statistics Histograms
Get Samples
Compute Class Statistics
Query Boundary
Compute Pixel Location
Validate
Project