View In:
ArcGIS JavaScript
ArcGIS Online Map Viewer
ArcGIS Earth
ArcMap
View Footprint In:
ArcGIS Online Map Viewer
Service Description: GDC_Climate_Case/R99pVAL_ssp245_MMM_CCAM_change_fp2041_2060_bp1995_2014_ANN_NZ5km_tif
Name: GDC_Climate_Case/R99pVAL_ssp245_MMM_CCAM_change_fp2041_2060_bp1995_2014_ANN_NZ5km_tif
Description:
Single Fused Map Cache: false
Extent:
XMin: 1964095.7359288298
YMin: 5677693.26485293
XMax: 2087672.841677342
YMax: 5831411.676498636
Spatial Reference: 2193
(2193)
Initial Extent:
XMin: 1964095.7359288298
YMin: 5677693.26485293
XMax: 2087672.841677342
YMax: 5831411.676498636
Spatial Reference: 2193
(2193)
Full Extent:
XMin: 1964095.7359288298
YMin: 5677693.26485293
XMax: 2087672.841677342
YMax: 5831411.676498636
Spatial Reference: 2193
(2193)
Pixel Size X: 4261.279508569391
Pixel Size Y: 5489.9432730609215
Band Count: 1
Pixel Type: F64
RasterFunction Infos: {"rasterFunctionInfos": [{
"name": "None",
"description": "",
"help": ""
}]}
Mensuration Capabilities: Basic
Has Histograms: false
Has Colormap: false
Has Multi Dimensions : false
Rendering Rule:
Min Scale: 0
Max Scale: 0
Copyright Text:
Service Data Type: esriImageServiceDataTypeGeneric
Min Values: N/A
Max Values: N/A
Mean Values: N/A
Standard Deviation Values: N/A
Object ID Field:
Fields:
None
Default Mosaic Method: Center
Allowed Mosaic Methods:
SortField:
SortValue: null
Mosaic Operator: First
Default Compression Quality: 75
Default Resampling Method: Bilinear
Max Record Count: null
Max Image Height: 4100
Max Image Width: 15000
Max Download Image Count: null
Max Mosaic Image Count: null
Allow Raster Function: true
Allow Copy: true
Allow Analysis: true
Allow Compute TiePoints: false
Supports Statistics: false
Supports Advanced Queries: false
Use StandardizedQueries: true
Raster Type Infos:
Name: Raster Dataset
Description: Supports all ArcGIS Raster Datasets
Help:
Has Raster Attribute Table: false
Edit Fields Info: null
Ownership Based AccessControl For Rasters: null
Child Resources:
Info
Statistics
Key Properties
Legend
Raster Function Infos
Supported Operations:
Export Image
Identify
Measure
Compute Histograms
Compute Statistics Histograms
Get Samples
Compute Class Statistics
Query Boundary
Compute Pixel Location
Validate
Project