<?xml version="1.0" encoding="UTF-8" standalone="no"?>
<metadata xml:lang="en">
<Esri>
<CreaDate>20240227</CreaDate>
<CreaTime>15371400</CreaTime>
<ArcGISFormat>1.0</ArcGISFormat>
<SyncOnce>FALSE</SyncOnce>
<DataProperties>
<lineage>
<Process Date="20240227" Time="153714" ToolSource="c:\program files\arcgis\pro\Resources\ArcToolbox\toolboxes\Data Management Tools.tbx\MosaicToNewRaster">MosaicToNewRaster 'C:\Users\nzpm31415\OneDrive - WSP O365\Projects\Wairoa Esplanade\Data\DEM Tiles\500mm\WSP_500_BH41_1000_3321.asc';'C:\Users\nzpm31415\OneDrive - WSP O365\Projects\Wairoa Esplanade\Data\DEM Tiles\500mm\WSP_500_BH41_1000_3322.asc';'C:\Users\nzpm31415\OneDrive - WSP O365\Projects\Wairoa Esplanade\Data\DEM Tiles\500mm\WSP_500_BH41_1000_3323.asc';'C:\Users\nzpm31415\OneDrive - WSP O365\Projects\Wairoa Esplanade\Data\DEM Tiles\500mm\WSP_500_BH41_1000_3421.asc';'C:\Users\nzpm31415\OneDrive - WSP O365\Projects\Wairoa Esplanade\Data\DEM Tiles\500mm\WSP_500_BH41_1000_3422.asc';'C:\Users\nzpm31415\OneDrive - WSP O365\Projects\Wairoa Esplanade\Data\DEM Tiles\500mm\WSP_500_BH41_1000_3423.asc';'C:\Users\nzpm31415\OneDrive - WSP O365\Projects\Wairoa Esplanade\Data\DEM Tiles\500mm\WSP_500_BH41_1000_3424.asc';'C:\Users\nzpm31415\OneDrive - WSP O365\Projects\Wairoa Esplanade\Data\DEM Tiles\500mm\WSP_500_BH41_1000_3425.asc';'C:\Users\nzpm31415\OneDrive - WSP O365\Projects\Wairoa Esplanade\Data\DEM Tiles\500mm\WSP_500_BH41_1000_3524.asc';'C:\Users\nzpm31415\OneDrive - WSP O365\Projects\Wairoa Esplanade\Data\DEM Tiles\500mm\WSP_500_BH41_1000_3525.asc';'C:\Users\nzpm31415\OneDrive - WSP O365\Projects\Wairoa Esplanade\Data\DEM Tiles\500mm\WSP_500_BH41_1000_3623.asc';'C:\Users\nzpm31415\OneDrive - WSP O365\Projects\Wairoa Esplanade\Data\DEM Tiles\500mm\WSP_500_BH41_1000_3624.asc';'C:\Users\nzpm31415\OneDrive - WSP O365\Projects\Wairoa Esplanade\Data\DEM Tiles\500mm\WSP_500_BH41_1000_3722.asc';'C:\Users\nzpm31415\OneDrive - WSP O365\Projects\Wairoa Esplanade\Data\DEM Tiles\500mm\WSP_500_BH41_1000_3723.asc';'C:\Users\nzpm31415\OneDrive - WSP O365\Projects\Wairoa Esplanade\Data\DEM Tiles\500mm\WSP_500_BH41_1000_3724.asc';'C:\Users\nzpm31415\OneDrive - WSP O365\Projects\Wairoa Esplanade\Data\DEM Tiles\500mm\WSP_500_BH41_1000_3817.asc';'C:\Users\nzpm31415\OneDrive - WSP O365\Projects\Wairoa Esplanade\Data\DEM Tiles\500mm\WSP_500_BH41_1000_3818.asc';'C:\Users\nzpm31415\OneDrive - WSP O365\Projects\Wairoa Esplanade\Data\DEM Tiles\500mm\WSP_500_BH41_1000_3819.asc';'C:\Users\nzpm31415\OneDrive - WSP O365\Projects\Wairoa Esplanade\Data\DEM Tiles\500mm\WSP_500_BH41_1000_3820.asc';'C:\Users\nzpm31415\OneDrive - WSP O365\Projects\Wairoa Esplanade\Data\DEM Tiles\500mm\WSP_500_BH41_1000_3821.asc';'C:\Users\nzpm31415\OneDrive - WSP O365\Projects\Wairoa Esplanade\Data\DEM Tiles\500mm\WSP_500_BH41_1000_3822.asc';'C:\Users\nzpm31415\OneDrive - WSP O365\Projects\Wairoa Esplanade\Data\DEM Tiles\500mm\WSP_500_BH41_1000_3917.asc';'C:\Users\nzpm31415\OneDrive - WSP O365\Projects\Wairoa Esplanade\Data\DEM Tiles\500mm\WSP_500_BH41_1000_3918.asc';'C:\Users\nzpm31415\OneDrive - WSP O365\Projects\Wairoa Esplanade\Data\DEM Tiles\500mm\WSP_500_BH41_1000_3919.asc' "C:\Users\nzpm31415\OneDrive - WSP O365\Projects\Wairoa Esplanade\Data\GDB\WairoaEsplanade.gdb" DEM_500_Mosaic PROJCS["NZGD_2000_New_Zealand_Transverse_Mercator",GEOGCS["GCS_NZGD_2000",DATUM["D_NZGD_2000",SPHEROID["GRS_1980",6378137.0,298.257222101]],PRIMEM["Greenwich",0.0],UNIT["Degree",0.0174532925199433]],PROJECTION["Transverse_Mercator"],PARAMETER["False_Easting",1600000.0],PARAMETER["False_Northing",10000000.0],PARAMETER["Central_Meridian",173.0],PARAMETER["Scale_Factor",0.9996],PARAMETER["Latitude_Of_Origin",0.0],UNIT["Meter",1.0]] "32 bit float" 0.5 1 Last First</Process>
<Process Date="20240305" Time="103159" ToolSource="c:\program files\arcgis\pro\Resources\ArcToolbox\toolboxes\Data Management Tools.tbx\ProjectRaster">ProjectRaster DEM_500_Mosaic "C:\Users\nzpm31415\OneDrive - WSP O365\Projects\Wairoa Esplanade\Data\GDB\WairoaEsplanade.gdb\DEM_500_Mosaic_WGS1984" PROJCS["WGS_1984_Web_Mercator_Auxiliary_Sphere",GEOGCS["GCS_WGS_1984",DATUM["D_WGS_1984",SPHEROID["WGS_1984",6378137.0,298.257223563]],PRIMEM["Greenwich",0.0],UNIT["Degree",0.0174532925199433]],PROJECTION["Mercator_Auxiliary_Sphere"],PARAMETER["False_Easting",0.0],PARAMETER["False_Northing",0.0],PARAMETER["Central_Meridian",0.0],PARAMETER["Standard_Parallel_1",0.0],PARAMETER["Auxiliary_Sphere_Type",0.0],UNIT["Meter",1.0]] "Nearest neighbor" "0.5 0.5" NZGD_2000_To_WGS_1984_1 # PROJCS["NZGD_2000_New_Zealand_Transverse_Mercator",GEOGCS["GCS_NZGD_2000",DATUM["D_NZGD_2000",SPHEROID["GRS_1980",6378137.0,298.257222101]],PRIMEM["Greenwich",0.0],UNIT["Degree",0.0174532925199433]],PROJECTION["Transverse_Mercator"],PARAMETER["False_Easting",1600000.0],PARAMETER["False_Northing",10000000.0],PARAMETER["Central_Meridian",173.0],PARAMETER["Scale_Factor",0.9996],PARAMETER["Latitude_Of_Origin",0.0],UNIT["Meter",1.0]] NO_VERTICAL</Process>
</lineage>
<itemProps>
<itemName Sync="TRUE">DEM_500_Mosaic_WGS1984</itemName>
<imsContentType Sync="TRUE">002</imsContentType>
<nativeExtBox>
<westBL Sync="TRUE">19746430.226055</westBL>
<eastBL Sync="TRUE">19752362.726055</eastBL>
<southBL Sync="TRUE">-4732196.879920</southBL>
<northBL Sync="TRUE">-4725381.379920</northBL>
<exTypeCode Sync="TRUE">1</exTypeCode>
</nativeExtBox>
<itemLocation>
<linkage Sync="TRUE">file://\\3X0WKN3\C$\Users\nzpm31415\OneDrive - WSP O365\Projects\Wairoa Esplanade\Data\GDB\WairoaEsplanade.gdb</linkage>
<protocol Sync="TRUE">Local Area Network</protocol>
</itemLocation>
</itemProps>
<coordRef>
<type Sync="TRUE">Projected</type>
<geogcsn Sync="TRUE">GCS_WGS_1984</geogcsn>
<csUnits Sync="TRUE">Linear Unit: Meter (1.000000)</csUnits>
<projcsn Sync="TRUE">WGS_1984_Web_Mercator_Auxiliary_Sphere</projcsn>
<peXml Sync="TRUE">&lt;ProjectedCoordinateSystem xsi:type='typens:ProjectedCoordinateSystem' xmlns:xsi='http://www.w3.org/2001/XMLSchema-instance' xmlns:xs='http://www.w3.org/2001/XMLSchema' xmlns:typens='http://www.esri.com/schemas/ArcGIS/3.2.0'&gt;&lt;WKT&gt;PROJCS[&amp;quot;WGS_1984_Web_Mercator_Auxiliary_Sphere&amp;quot;,GEOGCS[&amp;quot;GCS_WGS_1984&amp;quot;,DATUM[&amp;quot;D_WGS_1984&amp;quot;,SPHEROID[&amp;quot;WGS_1984&amp;quot;,6378137.0,298.257223563]],PRIMEM[&amp;quot;Greenwich&amp;quot;,0.0],UNIT[&amp;quot;Degree&amp;quot;,0.0174532925199433]],PROJECTION[&amp;quot;Mercator_Auxiliary_Sphere&amp;quot;],PARAMETER[&amp;quot;False_Easting&amp;quot;,0.0],PARAMETER[&amp;quot;False_Northing&amp;quot;,0.0],PARAMETER[&amp;quot;Central_Meridian&amp;quot;,0.0],PARAMETER[&amp;quot;Standard_Parallel_1&amp;quot;,0.0],PARAMETER[&amp;quot;Auxiliary_Sphere_Type&amp;quot;,0.0],UNIT[&amp;quot;Meter&amp;quot;,1.0],AUTHORITY[&amp;quot;EPSG&amp;quot;,3857]]&lt;/WKT&gt;&lt;XOrigin&gt;-20037700&lt;/XOrigin&gt;&lt;YOrigin&gt;-30241100&lt;/YOrigin&gt;&lt;XYScale&gt;148923141.92838538&lt;/XYScale&gt;&lt;ZOrigin&gt;-100000&lt;/ZOrigin&gt;&lt;ZScale&gt;10000&lt;/ZScale&gt;&lt;MOrigin&gt;-100000&lt;/MOrigin&gt;&lt;MScale&gt;10000&lt;/MScale&gt;&lt;XYTolerance&gt;0.001&lt;/XYTolerance&gt;&lt;ZTolerance&gt;0.001&lt;/ZTolerance&gt;&lt;MTolerance&gt;0.001&lt;/MTolerance&gt;&lt;HighPrecision&gt;true&lt;/HighPrecision&gt;&lt;WKID&gt;102100&lt;/WKID&gt;&lt;LatestWKID&gt;3857&lt;/LatestWKID&gt;&lt;/ProjectedCoordinateSystem&gt;</peXml>
</coordRef>
</DataProperties>
<SyncDate>20240305</SyncDate>
<SyncTime>10315800</SyncTime>
<ModDate>20240305</ModDate>
<ModTime>10315800</ModTime>
</Esri>
<dataIdInfo>
<envirDesc Sync="TRUE">Microsoft Windows 10 Version 10.0 (Build 19045) ; Esri ArcGIS 13.2.0.49743</envirDesc>
<dataLang>
<languageCode Sync="TRUE" value="eng"/>
<countryCode Sync="TRUE" value="NZL"/>
</dataLang>
<idCitation>
<resTitle Sync="TRUE">Wairoa Esplanade DEM_500_Mosaic_WGS1984_2</resTitle>
<presForm>
<PresFormCd Sync="TRUE" value="011"/>
</presForm>
</idCitation>
<spatRpType>
<SpatRepTypCd Sync="TRUE" value="002"/>
</spatRpType>
<dataExt>
<geoEle>
<GeoBndBox esriExtentType="search">
<exTypeCode Sync="TRUE">1</exTypeCode>
<westBL Sync="TRUE">177.385201</westBL>
<eastBL Sync="TRUE">177.438493</eastBL>
<northBL Sync="TRUE">-39.025894</northBL>
<southBL Sync="TRUE">-39.073441</southBL>
</GeoBndBox>
</geoEle>
</dataExt>
<idAbs/>
<searchKeys>
<keyword>Wairoa</keyword>
<keyword>Esplanade</keyword>
<keyword>DEM</keyword>
<keyword>Mosaic</keyword>
<keyword>WGS1984</keyword>
</searchKeys>
<idPurp>Wairoa Esplanade DEM_500_Mosaic_WGS1984</idPurp>
<idCredit/>
<resConst>
<Consts>
<useLimit/>
</Consts>
</resConst>
</dataIdInfo>
<mdLang>
<languageCode Sync="TRUE" value="eng"/>
<countryCode Sync="TRUE" value="NZL"/>
</mdLang>
<distInfo>
<distFormat>
<formatName Sync="TRUE">File Geodatabase Raster Dataset</formatName>
</distFormat>
</distInfo>
<mdHrLv>
<ScopeCd Sync="TRUE" value="005"/>
</mdHrLv>
<mdHrLvName Sync="TRUE">dataset</mdHrLvName>
<refSysInfo>
<RefSystem>
<refSysID>
<identCode Sync="TRUE" code="3857"/>
<idCodeSpace Sync="TRUE">EPSG</idCodeSpace>
<idVersion Sync="TRUE">6.18.3(9.3.1.2)</idVersion>
</refSysID>
</RefSystem>
</refSysInfo>
<spdoinfo>
<rastinfo>
<rasttype Sync="TRUE">Pixel</rasttype>
<rowcount Sync="TRUE">13631</rowcount>
<colcount Sync="TRUE">11865</colcount>
<rastxsz Sync="TRUE">0.500000</rastxsz>
<rastysz Sync="TRUE">0.500000</rastysz>
<rastbpp Sync="TRUE">32</rastbpp>
<vrtcount Sync="TRUE">1</vrtcount>
<rastorig Sync="TRUE">Upper Left</rastorig>
<rastcmap Sync="TRUE">FALSE</rastcmap>
<rastcomp Sync="TRUE">LZ77</rastcomp>
<rastband Sync="TRUE">1</rastband>
<rastdtyp Sync="TRUE">pixel codes</rastdtyp>
<rastifor Sync="TRUE">FGDBR</rastifor>
<rastplyr Sync="TRUE">TRUE</rastplyr>
</rastinfo>
</spdoinfo>
<spref>
<horizsys>
<planar>
<planci>
<plance Sync="TRUE">row and column</plance>
<coordrep>
<absres Sync="TRUE">0.500000</absres>
<ordres Sync="TRUE">0.500000</ordres>
</coordrep>
</planci>
</planar>
</horizsys>
</spref>
<mdDateSt Sync="TRUE">20240305</mdDateSt>
</metadata>
